BEGIN:VCALENDAR
VERSION:2.0
PRODID:-//CAIR-Cleveland &amp; Northern Ohio - ECPv6.15.20//NONSGML v1.0//EN
CALSCALE:GREGORIAN
METHOD:PUBLISH
X-ORIGINAL-URL:https://caircleveland.com
X-WR-CALDESC:Events for CAIR-Cleveland &amp; Northern Ohio
REFRESH-INTERVAL;VALUE=DURATION:PT1H
X-Robots-Tag:noindex
X-PUBLISHED-TTL:PT1H
BEGIN:VTIMEZONE
TZID:UTC
BEGIN:STANDARD
TZOFFSETFROM:+0000
TZOFFSETTO:+0000
TZNAME:UTC
DTSTART:20160101T000000
END:STANDARD
END:VTIMEZONE
BEGIN:VEVENT
DTSTART;TZID=UTC:20171014T110000
DTEND;TZID=UTC:20171014T140000
DTSTAMP:20260424T062853
CREATED:20171010T154824Z
LAST-MODIFIED:20171010T155100Z
UID:2294-1507978800-1507989600@caircleveland.com
SUMMARY:30th Annual Islamic Day in Ohio
DESCRIPTION:Join Us for the 30th Annual Islamic Day in Ohio \nSaturday\, October 14\, 2017 \n11:00 AM – 2:00 PM \nUniversity of Dayton\, Riverside Campus \n1700 South Patterson Blvd. Dayton\, Ohio 45409 \nKEYNOTE SPEAKER \nDr. Ahmed ElHattab \nExecutive Director \nISNA Development Foundation \nGUEST SPEAKER \nSenior Judge Walter H. Rice \nUS District Court for the Southern District of Ohio \nGUEST SPEAKER \nHonorable Nan Whaley \nMayor\, City of Dayton \nTickets are $35 for Adults; $20 for Students (includes luncheon) \n\n\n\nTO RESERVE TICKETS CONTACT: \nAkron/Kent: A. Haq 330-873-9757 \nCincinnati:    K. Dabdoub    513.281.8200 \nF. Emlemdi    513.805.9643 \nImam Chartier  303.725.2529 \nS. Ahmed   513.266.3981 \nMansfield: A. Ahmed 419.756.2530 \nToledo: H. Khan  419.874.8738 \nZ. Hasan  419.290.0216\n  \nCleveland:  A. Muhammad 216.356.0088 \nM.M. Sohrabi  216.337.4296 \nS. Abdelkarim 216.701.8447 \n Columbus:  M. Jalil  614.457.2518 \nN. Dada 614.216.9723 \nS. Khan  614.876.5684 \nZ. Abid  610.908.5862 \nA. Mahmour  614.588.3239 \n \nDayton: A. Johnson 973.313.5875 \nS. Ishaq 937.344.4274 \nM. Ghouse 937.581.3187 \nT. AlSabagh  937.572.9614 \nI. Gula   937.559.6736 \nA. Shakhbandarov  937.336.3734 \nYoungstown: K. Iqbal 330.774.6928 \nor 330.568.7341 \nY. Ghani 330.759.3596 \n \n\n\n\n 
URL:https://caircleveland.com/event/30th-annual-islamic-day-in-ohio/
CATEGORIES:Islamic Day in Ohio
ATTACH;FMTTYPE=image/jpeg:https://caircleveland.com/wp-content/uploads/2017/10/IDO-2017-Flyer-jpg-file.jpg
END:VEVENT
END:VCALENDAR