BEGIN:VCALENDAR
VERSION:2.0
PRODID:-//CAIR-Cleveland &amp; Northern Ohio - ECPv6.15.20//NONSGML v1.0//EN
CALSCALE:GREGORIAN
METHOD:PUBLISH
X-WR-CALNAME:CAIR-Cleveland &amp; Northern Ohio
X-ORIGINAL-URL:https://caircleveland.com
X-WR-CALDESC:Events for CAIR-Cleveland &amp; Northern Ohio
REFRESH-INTERVAL;VALUE=DURATION:PT1H
X-Robots-Tag:noindex
X-PUBLISHED-TTL:PT1H
BEGIN:VTIMEZONE
TZID:UTC
BEGIN:STANDARD
TZOFFSETFROM:+0000
TZOFFSETTO:+0000
TZNAME:UTC
DTSTART:20170101T000000
END:STANDARD
END:VTIMEZONE
BEGIN:VEVENT
DTSTART;TZID=UTC:20180925T090000
DTEND;TZID=UTC:20180925T170000
DTSTAMP:20260424T070654
CREATED:20180816T154038Z
LAST-MODIFIED:20180816T163445Z
UID:2924-1537866000-1537894800@caircleveland.com
SUMMARY:2nd Annual Muslim Day at the Ohio State Capitol
DESCRIPTION:Join CAIR-Ohio in Columbus for the 2nd Annual Muslim Day at the State Capitol on September 25\, 2018! \nParticipants will receive training\, education\, and meet with their elected representatives to discuss issues affecting all Ohioans. Registration fee includes lunch\, training\, and materials. \nREGISTRATION:\n$20 Early Bird Ticket (If purchased by August 31\, 2018)\n$30 Early Bird Ticket with Statehouse Parking Garage Validation (If purchased by August 31\, 2018) \n$25 General Admission (If purchased after August 31\, 2018)\n$35 General Admission with Statehouse Parking Garage Validation (If purchased after August 31\, 2018) \nDeadline to register is September 14\, 2018 \nWe will be advocating for racial justice\, economic justice\, and gun safety reform. \nSpecifically\, attendees will be advocating for the passage of:\nSenate Bill 84 – “Preventing Biased Policing and Status Profiling”\nHouse Bill 616 – “Prohibiting Arrest and Citation Quotas”\nHouse Bill 576/SB 277 – “Increasing the State Minimum Wage To $15 By 2025”\nHouse Bill 585/SB 288 – “Revising Firearms Control Laws” \nIn addition\, we will be opposing House Bill 228/SB 180 – “Regarding Self-Defense and Handling Firearms\,” a bill with a “Stand-Your-Ground” provision. \nRegister HERE by September 14\, 2018 \nTo register a school\, masjid\, or youth group please email Public Affairs Coordinator Usjid Hameed at uhameed@cair.com. \nFor more information\, call CAIR-Ohio at 216.830.2247 or e-mail us at events@cleveland.cair.com \n– END –
URL:https://caircleveland.com/event/2nd-annual-muslim-day-at-the-ohio-state-capitol/
LOCATION:The Ohio Statehouse\, 1 Capitol Square\, Columbus\, OH\, 43215\, United States
CATEGORIES:Muslim Day at the State Capitol
ATTACH;FMTTYPE=image/jpeg:https://caircleveland.com/wp-content/uploads/2018/08/2nd-Annual-Muslim-Day-at-the-Capitol-Image.jpg
END:VEVENT
END:VCALENDAR