BEGIN:VCALENDAR
VERSION:2.0
PRODID:-//CAIR-Cleveland &amp; Northern Ohio - ECPv6.15.20//NONSGML v1.0//EN
CALSCALE:GREGORIAN
METHOD:PUBLISH
X-ORIGINAL-URL:https://caircleveland.com
X-WR-CALDESC:Events for CAIR-Cleveland &amp; Northern Ohio
REFRESH-INTERVAL;VALUE=DURATION:PT1H
X-Robots-Tag:noindex
X-PUBLISHED-TTL:PT1H
BEGIN:VTIMEZONE
TZID:UTC
BEGIN:STANDARD
TZOFFSETFROM:+0000
TZOFFSETTO:+0000
TZNAME:UTC
DTSTART:20170101T000000
END:STANDARD
END:VTIMEZONE
BEGIN:VTIMEZONE
TZID:Atlantic/Azores
BEGIN:DAYLIGHT
TZOFFSETFROM:-0100
TZOFFSETTO:+0000
TZNAME:+00
DTSTART:20160327T010000
END:DAYLIGHT
BEGIN:STANDARD
TZOFFSETFROM:+0000
TZOFFSETTO:-0100
TZNAME:-01
DTSTART:20161030T010000
END:STANDARD
BEGIN:DAYLIGHT
TZOFFSETFROM:-0100
TZOFFSETTO:+0000
TZNAME:+00
DTSTART:20170326T010000
END:DAYLIGHT
BEGIN:STANDARD
TZOFFSETFROM:+0000
TZOFFSETTO:-0100
TZNAME:-01
DTSTART:20171029T010000
END:STANDARD
BEGIN:DAYLIGHT
TZOFFSETFROM:-0100
TZOFFSETTO:+0000
TZNAME:+00
DTSTART:20180325T010000
END:DAYLIGHT
BEGIN:STANDARD
TZOFFSETFROM:+0000
TZOFFSETTO:-0100
TZNAME:-01
DTSTART:20181028T010000
END:STANDARD
END:VTIMEZONE
BEGIN:VEVENT
DTSTART;TZID=UTC:20191119T180000
DTEND;TZID=UTC:20191119T200000
DTSTAMP:20260424T034647
CREATED:20191115T181057Z
LAST-MODIFIED:20191115T181057Z
UID:3100-1574186400-1574193600@caircleveland.com
SUMMARY:Join Us for Teatime for Peace at Laurel School\, Lyman Campus
DESCRIPTION:What is better than teatime? Teatime AND fellowship. Come out and experience our shared humanity over a cup of tea where we focus on our similarities and celebrate our differences! \nEvent registration is at 6:00pm and program begins at 6:30pm. \nDate: Tuesday\, November 19\, 2019 \nTime: Registration 6:00 – 6:30 | Program 6:30 – 8:00 PM \nLocation: Laurel School\, Lyman Campus\n                    1 Lyman Circle\n                    Shaker Heights\, Ohio 44122 \nTo RSVP\, contact Lauren Callg at lCallg@LaurelSchool.org \nTeatime for Peace is a chance to have tea\, snacks and conversation with neighbors from diverse communities that may not otherwise get a chance to come together. \nThe mission of Teatime for Peace is to host events where people of different belief systems and ethnic and racial backgrounds come together to engage in honest dialogue in a nonjudgmental\, respectful environment in which each person has an opportunity to listen and be heard. \nThe vision of Teatime for Peace is to create peace by building the Beloved Community by getting to know each other better\, by outgrowing our conscious and unconscious biases about who the “other” is and by both accepting our differences and recognizing our shared humanity and aspirations. \nFor more information\, email teatime4peace@gmail.com
URL:https://caircleveland.com/event/join-us-for-teatime-for-peace-at-laurel-school-lyman-campus/
LOCATION:Laurel School\, Lyman Campus\, 1 Lyman Circle\, Shaker Heights\, OH\, 44122\, United States
CATEGORIES:Teatime for Peace
ATTACH;FMTTYPE=image/jpeg:https://caircleveland.com/wp-content/uploads/2019/11/Teatime-for-Peace-11-19-19-002.jpg
END:VEVENT
BEGIN:VEVENT
DTSTART;TZID=UTC:20191029T181500
DTEND;TZID=UTC:20191029T203000
DTSTAMP:20260424T034647
CREATED:20191024T164259Z
LAST-MODIFIED:20191024T164259Z
UID:3097-1572372900-1572381000@caircleveland.com
SUMMARY:Join Us for Teatime for Peace at Advent Lutheran Church
DESCRIPTION:What is better than teatime? Teatime AND fellowship. Come out and experience our shared humanity over a cup of tea where we focus on our similarities and celebrate our differences! \nEvent registration is at 6:15pm and program begins at 6:45pm. \nDate: Tuesday\, October 29\, 2019 \nTime: Registration 6:15 – 6:45 | Program 6:45 – 8:30 PM \nLocation: Advent Lutheran Church\n                    7985 Munson Road\n                    Mentor\, Ohio 44060 \nTo RSVP\, contact Tim Krueger (co-chair)\, LTCTKRUE@aol.com\, 440.391.0369 (m). \nTeatime for Peace is a chance to have tea\, snacks and conversation with neighbors from diverse communities that may not otherwise get a chance to come together. \nThe mission of Teatime for Peace is to host events where people of different belief systems and ethnic and racial backgrounds come together to engage in honest dialogue in a nonjudgmental\, respectful environment in which each person has an opportunity to listen and be heard. \nThe vision of Teatime for Peace is to create peace by building the Beloved Community by getting to know each other better\, by outgrowing our conscious and unconscious biases about who the “other” is and by both accepting our differences and recognizing our shared humanity and aspirations. \nFor more information\, email teatime4peace@gmail.c
URL:https://caircleveland.com/event/join-us-for-teatime-for-peace-at-advent-lutheran-church/
LOCATION:Advent Lutheran Church\, 7985 Munson Road\, Mentor\, OH\, 44060
CATEGORIES:Teatime for Peace
ATTACH;FMTTYPE=image/jpeg:https://caircleveland.com/wp-content/uploads/2019/10/Teatime-for-Peace-Flyer-for-October-29-2019.jpg
END:VEVENT
BEGIN:VEVENT
DTSTART;TZID=UTC:20190619T183000
DTEND;TZID=UTC:20190619T204500
DTSTAMP:20260424T034647
CREATED:20190528T171957Z
LAST-MODIFIED:20190528T171957Z
UID:3034-1560969000-1560977100@caircleveland.com
SUMMARY:Join Us for Teatime for Peace at the Islamic Center of Cleveland
DESCRIPTION:What is better than teatime in June? Teatime AND fellowship. Come out and experience our shared humanity over a cup of tea where we focus on our similarities and celebrate our differences! \nEvent registration is at 6:30pm and program begins at 7:00pm. \nDate: Wednesday\, June 19\, 2019 \nTime: Registration 6:30 – 7:00 | Program 7:00 – 8:45 PM \nLocation: Islamic Center of Cleveland\n                    6055 West 130th Street\n                     Parma\, Ohio 44130 \nTeatime for Peace is a chance to have tea\, snacks and conversation with neighbors from diverse communities that may not otherwise get a chance to come together. \nThe mission of Teatime for Peace is to host events where people of different belief systems and ethnic and racial backgrounds come together to engage in honest dialogue in a nonjudgmental\, respectful environment in which each person has an opportunity to listen and be heard. \nThe vision of Teatime for Peace is to create peace by building the Beloved Community by getting to know each other better\, by outgrowing our conscious and unconscious biases about who the “other” is and by both accepting our differences and recognizing our shared humanity and aspirations. \nFor more information\, email teatime4peace@gmail.com \nInformation about hosts:\nThe Islamic Center of Cleveland serves as a cultural and religious institution for Muslims in the larder Cleveland area. The mosque and community center offers daily prayers\, youth programming and other activities which promote good-will\, understanding\, fellowship and tolerance.\nSalaam Cleveland serves the NE Ohio area. Their mission is to promote understanding between people of different faiths and ethnicities; to establish charitable activities such as supporting soup kitchens\, health clinics etc\, to guide\, educate and nurture refugees in their resettlement and to arrange multi-cultural social and educational events.
URL:https://caircleveland.com/event/join-us-for-teatime-for-peace-at-the-islamic-center-of-cleveland-2/
LOCATION:Islamic Center of Cleveland\, 6055 West 130th Street\, Parma\, Ohio\, 44130\, United States
CATEGORIES:Teatime for Peace
ATTACH;FMTTYPE=image/png:https://caircleveland.com/wp-content/uploads/2019/05/Teatime-at-Islamic-Center-of-Cleveland-6-19-2019-2-e1559063929810.png
ORGANIZER;CN="CAIR-Ohio%2C Cleveland Chapter":MAILTO:events@cleveland.cair.com
END:VEVENT
BEGIN:VEVENT
DTSTART;TZID=UTC:20181108T183000
DTEND;TZID=UTC:20181108T203000
DTSTAMP:20260424T034647
CREATED:20181105T193134Z
LAST-MODIFIED:20181105T193134Z
UID:2995-1541701800-1541709000@caircleveland.com
SUMMARY:Join us for Teatime for Peace at First Lutheran Church
DESCRIPTION:What is better than teatime in November? Teatime AND fellowship. Come out on November 8\, 2018 and experience our shared humanity over a cup of tea where we focus on our similarities and celebrate our differences!  \nDate: Thursday\, November 8\, 2018 \nTime: Registration 6:30 – 7:00 | Program 7:00 – 8:30 PM \nLocation: First Lutheran Church\n                     1019 West 5th Street\n                     Lorain\, Ohio 44052 \nTeatime for Peace is a chance to have tea\, snacks and conversation with neighbors from diverse communities that may not otherwise get a chance to come together. \nThe mission of Teatime for Peace is to host events where people of different belief systems and ethnic and racial backgrounds come together to engage in honest dialogue in a nonjudgmental\, respectful environment in which each person has an opportunity to listen and be heard. \nThe vision of Teatime for Peace is to create peace by building the Beloved Community by getting to know each other better\, by outgrowing our conscious and unconscious biases about who the “other” is and by both accepting our differences and recognizing our shared humanity and aspirations.
URL:https://caircleveland.com/event/join-us-for-teatime-for-peace-at-first-lutheran-church/
LOCATION:First Lutheran Church\, 1019 West 5th Street\, Lorain\, OH\, 44052\, United States
CATEGORIES:Teatime for Peace
ATTACH;FMTTYPE=image/jpeg:https://caircleveland.com/wp-content/uploads/2018/11/Teatime-for-peace-11-8-18.jpg
ORGANIZER;CN="CAIR-Ohio%2C Cleveland Chapter":MAILTO:events@cleveland.cair.com
END:VEVENT
BEGIN:VEVENT
DTSTART;TZID=UTC:20181017T183000
DTEND;TZID=UTC:20181017T204500
DTSTAMP:20260424T034647
CREATED:20181009T154736Z
LAST-MODIFIED:20181009T154736Z
UID:2961-1539801000-1539809100@caircleveland.com
SUMMARY:Join us for Teatime for Peace at The Islamic Center of Cleveland
DESCRIPTION:What is better than teatime in October? Teatime AND fellowship. Come out and experience our shared humanity over a cup of tea where we focus on our similarities and celebrate our differences!\nEvent registration is at 6:30pm and program begins at 7:15pm. \nTo RSVP\, please contact Isam Zaiem at 216.337.7928 or isamz@sbcglobal.net or contact Humera Khan at 440.669.6795 or humkhan85@yahoo.com. \nInformation about hosts:\nThe Islamic Center of Cleveland serves as a cultural and religious institution for Muslims in the larder Cleveland area. The mosque and community center offers daily prayers\, youth programming and other activities which promote good-will\, understanding\, fellowship and tolerance.\nSalaam Cleveland serves the NE Ohio area. Their mission is to promote understanding between people of different faiths and ethnicities; to establish charitable activities such as supporting soup kitchens\, health clinics etc\, to guide\, educate and nurture refugees in their resettlement and to arrange multi-cultural social and educational events.
URL:https://caircleveland.com/event/join-us-for-teatime-for-peace-at-the-islamic-center-of-cleveland/
LOCATION:Islamic Center of Cleveland\, 6055 West 130th Street\, Parma\, Ohio\, 44130\, United States
CATEGORIES:Meet Your Muslim Neighbors Mosque Tour,Teatime for Peace
ATTACH;FMTTYPE=image/jpeg:https://caircleveland.com/wp-content/uploads/2018/10/ICC-Teatime-Flyer.jpg
ORGANIZER;CN="CAIR-Ohio%2C Cleveland Chapter":MAILTO:events@cleveland.cair.com
END:VEVENT
BEGIN:VEVENT
DTSTART;TZID=UTC:20180828T183000
DTEND;TZID=UTC:20180828T203000
DTSTAMP:20260424T034647
CREATED:20180816T162909Z
LAST-MODIFIED:20180816T162909Z
UID:2920-1535481000-1535488200@caircleveland.com
SUMMARY:JOIN US FOR TEATIME FOR PEACE!
DESCRIPTION:Teatime for Peace is an interfaith gathering of communities to listen\, learn and contribute to better understand our citizens. \nThis event is a chance to have tea\, snacks and conversation with neighbors from diverse communities that may not otherwise get a chance to come together. \nThe premise is simple: come have a cup of tea with your interfaith neighbors and learn through human connection. Break through the stereotypes and build bridges of faith by focusing on our similarities and celebrating our differences. \nThe August 28\, 2018 Teatime for Peace is hosted by the National Council of Jewish Women (NCJW). The NCJW is a grassroots organization of volunteers and advocates who turn progressive ideals into action. Inspired by Jewish values\, NCJW strives for social justice by improving the quality of life for women\, children\, and families and by safeguarding individual rights and freedoms. \nThis event requires advance registration either by phone or on-line. No walk-ins accepted. \nEvent Date: Tuesday\, August 28\, 2018 Doors open at 6:30 p.m. The program will run from 7:00 p.m. – 8:30 p.m. \nOnce you register\, you will receive location details via email. Please direct any questions to rbrouman@ncjwcleveland.org. \nPlease register in advance HERE or call the NCJW office at 216-378-2204 to register or if you have any questions. \nThe mission of Teatime for Peace is to host events where people of different belief systems and ethnic and racial backgrounds come together to engage in honest dialogue in a nonjudgmental\, respectful environment in which each person has an opportunity to listen and be heard. \nThe vision of Teatime for Peace is to create peace by building the Beloved Community by getting to know each other better\, by outgrowing our conscious and unconscious biases about who the “other” is and by both accepting our differences and recognizing our shared humanity and aspirations. \n– END –
URL:https://caircleveland.com/event/join-us-for-teatime-for-peace/
LOCATION:OH
CATEGORIES:Teatime for Peace
ATTACH;FMTTYPE=image/jpeg:https://caircleveland.com/wp-content/uploads/2018/08/Teatime-for-peace-august-2018-e1534436714772.jpg
END:VEVENT
BEGIN:VEVENT
DTSTART;TZID=Atlantic/Azores:20171108T183000
DTEND;TZID=Atlantic/Azores:20171108T210000
DTSTAMP:20260424T034647
CREATED:20171024T033029Z
LAST-MODIFIED:20171024T195320Z
UID:2607-1510165800-1510174800@caircleveland.com
SUMMARY:Teatime for Peace at River's Edge
DESCRIPTION:River’s Edge: A Place for Reflection & Action\nInvites You to\nTeatime for Peace: An Interfaith Dialogue\nCome help us break through the stereotypes over a cup of tea.\nWednesday\, November 8\, 2017\nRegistration begins at 6:30 PM\nEvent is 7:00 PM – 9:00 PM\nLocation: River’s Edge 3430 Rocky River Drive\, Cleveland\, Ohio 44111 \nOur goal is to build bridges of faith by focusing on our similarities and celebrating our differences. Spread the word and bring your family and friends. Let us keep the tea and the conversation flowing. \nRegister online at www.RiversEdgeCleveland.com or call 216.688-1111 x 251
URL:https://caircleveland.com/event/teatime-for-peace-at-rivers-edge/
LOCATION:OH\, United States
CATEGORIES:Teatime for Peace
ATTACH;FMTTYPE=image/jpeg:https://caircleveland.com/wp-content/uploads/2017/10/Tea-Time-for-Peace-NOvember-8.jpg
END:VEVENT
END:VCALENDAR